BEGIN:VCALENDAR
VERSION:2.0
PRODID:-//Florilegium - ECPv6.15.12.2//NONSGML v1.0//EN
CALSCALE:GREGORIAN
METHOD:PUBLISH
X-WR-CALNAME:Florilegium
X-ORIGINAL-URL:https://www.florilegium.org.uk
X-WR-CALDESC:Events for Florilegium
REFRESH-INTERVAL;VALUE=DURATION:PT1H
X-Robots-Tag:noindex
X-PUBLISHED-TTL:PT1H
BEGIN:VTIMEZONE
TZID:UTC
BEGIN:STANDARD
TZOFFSETFROM:+0000
TZOFFSETTO:+0000
TZNAME:UTC
DTSTART:20250101T000000
END:STANDARD
END:VTIMEZONE
BEGIN:VEVENT
DTSTART;TZID=UTC:20260518T183000
DTEND;TZID=UTC:20260518T203000
DTSTAMP:20260421T151115
CREATED:20251215T144048Z
LAST-MODIFIED:20251215T144114Z
UID:2090-1779129000-1779136200@www.florilegium.org.uk
SUMMARY:Bach's Complete Brandenburg Concertos
DESCRIPTION:The Brandenburg Concertos (BWV 1046–1051) by Johann Sebastian Bach  are widely regarded as some of the greatest orchestral compositions of the Baroque era. Director\, Ashley Solomon\, presents the concertos in reverse order\, so that the number of players increases with each work.  \nBACH JS: Brandenburg 6 BMW 1051 \nBACH JS: Brandenburg 5 BMW 1050 \nBACH JS: Brandenburg 4 BMW 1049 \nINTERVAL \nBACH JS: Brandenburg 3 BMW 1048 \nBACH JS: Brandenburg 2 BMW 1047 \nBACH JS: Brandenburg 1 BMW 1046
URL:https://www.florilegium.org.uk/concerts/bachs-complete-brandenburg-concertos/
LOCATION:St James Church\, Church Street\, Chipping Campden\, GL55 6JG
ATTACH;FMTTYPE=image/jpeg:https://www.florilegium.org.uk/wp-content/uploads/2025/01/John-Yip-Brandies-colourcropresize.jpg
END:VEVENT
END:VCALENDAR